BEGIN:VCALENDAR
VERSION:2.0
PRODID:-//ZenTek Consultants - ECPv6.15.20//NONSGML v1.0//EN
CALSCALE:GREGORIAN
METHOD:PUBLISH
X-WR-CALNAME:ZenTek Consultants
X-ORIGINAL-URL:https://zentekconsultants.net
X-WR-CALDESC:Events for ZenTek Consultants
REFRESH-INTERVAL;VALUE=DURATION:PT1H
X-Robots-Tag:noindex
X-PUBLISHED-TTL:PT1H
BEGIN:VTIMEZONE
TZID:America/New_York
BEGIN:DAYLIGHT
TZOFFSETFROM:-0500
TZOFFSETTO:-0400
TZNAME:EDT
DTSTART:20250309T070000
END:DAYLIGHT
BEGIN:STANDARD
TZOFFSETFROM:-0400
TZOFFSETTO:-0500
TZNAME:EST
DTSTART:20251102T060000
END:STANDARD
BEGIN:DAYLIGHT
TZOFFSETFROM:-0500
TZOFFSETTO:-0400
TZNAME:EDT
DTSTART:20260308T070000
END:DAYLIGHT
BEGIN:STANDARD
TZOFFSETFROM:-0400
TZOFFSETTO:-0500
TZNAME:EST
DTSTART:20261101T060000
END:STANDARD
BEGIN:DAYLIGHT
TZOFFSETFROM:-0500
TZOFFSETTO:-0400
TZNAME:EDT
DTSTART:20270314T070000
END:DAYLIGHT
BEGIN:STANDARD
TZOFFSETFROM:-0400
TZOFFSETTO:-0500
TZNAME:EST
DTSTART:20271107T060000
END:STANDARD
END:VTIMEZONE
BEGIN:VEVENT
DTSTART;TZID=America/New_York:20260421T110000
DTEND;TZID=America/New_York:20260421T130000
DTSTAMP:20260421T022131
CREATED:20260223T150834Z
LAST-MODIFIED:20260223T150905Z
UID:10004427-1776769200-1776776400@zentekconsultants.net
SUMMARY:Construction Scheduling in Microsoft Project Professional I
DESCRIPTION:Microsoft Project Professional is a powerful\, industry-standard scheduling tool\, and knowing how to use it effectively is essential for construction project success. This introductory course is designed for new Microsoft Project users and focuses on building and managing construction schedules. You’ll learn how to create tasks\, organize project phases\, assign and manage resources\, and adjust timelines to produce clear\, accurate\, and workable project schedules. \nThis course is delivered in 2 two-hour sessions. A live instructor explains the detailed functions and addresses questions as the class progresses. \nNote: Instructor will be using the latest version of Microsoft Project Professional and students are encouraged to use same. \nRecording: Registrants for a course will receive access to a recording of each session for 7 consecutive days. Access will start the next business day after the session ends. \nSession 1: Understanding Microsoft Project \n\nThe Project Interface\nCreating a New Project\nSaving/Opening a Project\nEntering Project Information\nSetting Working Time\nChoosing Automatic or Manual Scheduling\nEntering Tasks\nProject Views\nOrganizing Tasks into Phases\nLinking and Unlinking Tasks\n\nSession 2: Schedules and Resources \n\nMoving Tasks\nRescheduling Tasks\nSplitting Tasks\nDeleting Tasks\nCreating Resources\nUsing the Resource Information Dialog\nAssigning Resources to Tasks\nRemoving and Replacing Resource Assignments\nResource Leveling
URL:https://zentekconsultants.net/event/construction-scheduling-in-microsoft-project-professional-i/2026-04-21/
LOCATION:Online
CATEGORIES:Construction Scheduling in Microsoft Project Professional I,Microsoft Courses
END:VEVENT
BEGIN:VEVENT
DTSTART;TZID=America/New_York:20260421T110000
DTEND;TZID=America/New_York:20260421T130000
DTSTAMP:20260421T022131
CREATED:20260223T152439Z
LAST-MODIFIED:20260223T152439Z
UID:10004431-1776769200-1776776400@zentekconsultants.net
SUMMARY:Bluebeam Revu for Estimating I
DESCRIPTION:Bluebeam Revu offers powerful tools to streamline quantity takeoffs and connect them to cost and labor analysis. This course introduces estimators to the fundamental measurement and takeoff features in Revu\, including scaling\, linear and area measurements\, and item counts. You’ll also learn how to manage measurement properties\, handle complex counts\, and work with multiple viewports – providing a solid foundation for accurate and efficient estimating workflows. \nThis course is delivered in 2 two-hour sessions. A live instructor explains the detailed functions and addresses questions as the class progresses. Classes are taught by Bluebeam Certified Professionals. \n​​Note: Instructor will be using Bluebeam Revu Complete 21 and some tools shown may not be available in Revu Basics or Core. \nRecording: Registrants for a course will receive access to a recording of each session for 7 consecutive days. Access will start the next business day after the session ends. \nSession 1: Measurement & Takeoff Tools \n\nPDF Scaling and Calibration\nLinear Measurement Tools\nArea and Volume Tools\nItem Counts and Search Tools\n\nSession 2: Measurement Properties \n\nSegment Lengths and Drop/Riser Values\nApplying Slopes to Areas\nSplit\, Merge\, and Continue Counts\nUsing Multiple Viewports at Differing Scales\nEditing Actions for a Measurement
URL:https://zentekconsultants.net/event/bluebeam-revu-for-estimating-i/2026-04-21/
LOCATION:Online
CATEGORIES:Bluebeam Courses,Bluebeam Revu for Estimating I
END:VEVENT
BEGIN:VEVENT
DTSTART;TZID=America/New_York:20260421T143000
DTEND;TZID=America/New_York:20260421T153000
DTSTAMP:20260421T022131
CREATED:20260302T185841Z
LAST-MODIFIED:20260302T185841Z
UID:10004444-1776781800-1776785400@zentekconsultants.net
SUMMARY:Tech Talk for Bluebeam Users presented by ZenTek Consultants
DESCRIPTION:Are you getting the most out of Bluebeam? While it’s one of the most widely used tools in construction\, many users aren’t using it to its full potential. Whether you’re a seasoned user or just getting started\, you probably have questions—about speed\, efficiency\, and better ways to get work done. \nJoin ZenTek’s Tech Talks for an open\, interactive session with our Bluebeam Technical Specialists. In this open forum\, we’ll cover the top five Bluebeam features you should be implementing\, plus answer any Bluebeam questions. \nIn this Tech Talk\, ZenTek’s Technical Specialists will discuss: \n\nCustomizing Tool Chests\nOrganizing and Filtering Markups\nScaling and Calibration\nUsing Measurement Tools\nOrganizing Bluebeam Studio\n\nYou can send questions in advance or ask them in session. From everyday workflows to advanced construction management processes\, we’ll help you work smarter in Bluebeam. \nLimited access available. Register today to secure your spot and gain expert Bluebeam insights.
URL:https://zentekconsultants.net/event/tech-talk-for-bluebeam-users-presented-by-zentek-consultants/
LOCATION:Online
CATEGORIES:Webinars
END:VEVENT
END:VCALENDAR